BEGIN:VCALENDAR
METHOD:REQUEST
PRODID:-//events.orgNONSGML ical.net 4.0//EN
VERSION:2.0
BEGIN:VEVENT
DTEND;VALUE=DATE:20260522
DTSTAMP:20260424T080914Z
DTSTART;VALUE=DATE:20260522
LOCATION:Mark Taper Forum\, Los Angeles
ORGANIZER;CN=:mailto:events@events.org
SEQUENCE:0
SUMMARY:Primary Trust
UID:fb9b1a58-80d8-4573-93d4-debcdc1301ba
URL:https://events.org/e/Primary-Trust/LCV76DE2
BEGIN:VALARM
ACTION:DISPLAY
SUMMARY:Reminder
TRIGGER:-P1D
END:VALARM
END:VEVENT
END:VCALENDAR
