BEGIN:VCALENDAR
METHOD:REQUEST
PRODID:-//events.orgNONSGML ical.net 4.0//EN
VERSION:2.0
BEGIN:VEVENT
DTEND;VALUE=DATE:20260426
DTSTAMP:20260424T082739Z
DTSTART;VALUE=DATE:20260426
LOCATION:Birdland Jazz Club\, New York
ORGANIZER;CN=:mailto:events@events.org
SEQUENCE:0
SUMMARY:Ginita y La Orquesta Esa
UID:1f4e4bdc-5356-40cb-91f7-81730f71d1ca
URL:https://events.org/e/Ginita-y-La-Orquesta-Esa/69LIMI8L
BEGIN:VALARM
ACTION:DISPLAY
SUMMARY:Reminder
TRIGGER:-P1D
END:VALARM
END:VEVENT
END:VCALENDAR
