BEGIN:VCALENDAR
METHOD:REQUEST
PRODID:-//events.orgNONSGML ical.net 4.0//EN
VERSION:2.0
BEGIN:VEVENT
DTEND;VALUE=DATE:20260512
DTSTAMP:20260423T135348Z
DTSTART;VALUE=DATE:20260512
LOCATION:Summit Music Hall\, Denver
ORGANIZER;CN=:mailto:events@events.org
SEQUENCE:0
SUMMARY:The Afghan Whigs 40th Anniversary Tour With Mercury Rev
UID:ff7965a4-ed0a-4f17-afb8-10c4aa874e2f
URL:https://events.org/e/The-Afghan-Whigs-40th-Anniversary-Tour-With-M/CK4
 ULKAA
BEGIN:VALARM
ACTION:DISPLAY
SUMMARY:Reminder
TRIGGER:-P1D
END:VALARM
END:VEVENT
END:VCALENDAR
