BEGIN:VCALENDAR
METHOD:REQUEST
PRODID:-//events.orgNONSGML ical.net 4.0//EN
VERSION:2.0
BEGIN:VEVENT
DTEND;VALUE=DATE:20260923
DTSTAMP:20260419T142514Z
DTSTART;VALUE=DATE:20260923
LOCATION:The Echo Lounge & Music Hall\, Dallas
ORGANIZER;CN=:mailto:events@events.org
SEQUENCE:0
SUMMARY:Built To Spill
UID:2a0a5b96-74e8-473d-aecc-7927ccd02a6a
URL:https://events.org/e/Built-To-Spill/JLIXRRBP
BEGIN:VALARM
ACTION:DISPLAY
SUMMARY:Reminder
TRIGGER:-P1D
END:VALARM
END:VEVENT
END:VCALENDAR
