BEGIN:VCALENDAR
METHOD:REQUEST
PRODID:-//events.orgNONSGML ical.net 4.0//EN
VERSION:2.0
BEGIN:VEVENT
DTEND;VALUE=DATE:20260515
DTSTAMP:20260424T080802Z
DTSTART;VALUE=DATE:20260515
LOCATION:Underground Arts\, Philadelphia
ORGANIZER;CN=:mailto:events@events.org
SEQUENCE:0
SUMMARY:Thaiboy Digital with Whitearmor (21+ Event)
UID:0390743c-086f-4616-96f2-d338daaeafd5
URL:https://events.org/e/Thaiboy-Digital-with-Whitearmor-21-Event/OH469VCI
BEGIN:VALARM
ACTION:DISPLAY
SUMMARY:Reminder
TRIGGER:-P1D
END:VALARM
END:VEVENT
END:VCALENDAR
