BEGIN:VCALENDAR
METHOD:REQUEST
PRODID:-//events.orgNONSGML ical.net 4.0//EN
VERSION:2.0
BEGIN:VEVENT
DTEND;VALUE=DATE:20260507
DTSTAMP:20260421T144555Z
DTSTART;VALUE=DATE:20260507
LOCATION:The Three Clubs\, Los Angeles
ORGANIZER;CN=:mailto:events@events.org
SEQUENCE:0
SUMMARY:Netflix Is A Joke Presents: Dylan Adler & Emily Wilson
UID:84718be5-7adc-4792-ad3c-dc2a4fae17c9
URL:https://events.org/e/Netflix-Is-A-Joke-Presents-Dylan-Adler-Emily/UDQY
 8LBG
BEGIN:VALARM
ACTION:DISPLAY
SUMMARY:Reminder
TRIGGER:-P1D
END:VALARM
END:VEVENT
END:VCALENDAR
