BEGIN:VCALENDAR
METHOD:REQUEST
PRODID:-//events.orgNONSGML ical.net 4.0//EN
VERSION:2.0
BEGIN:VEVENT
DTEND;VALUE=DATE:20260429
DTSTAMP:20260421T114809Z
DTSTART;VALUE=DATE:20260429
LOCATION:Clock-Out Lounge\, Seattle
ORGANIZER;CN=:mailto:events@events.org
SEQUENCE:0
SUMMARY:Clock-Out Presents: Arran McInnis Bday Show- Fungal Abyss w/ Subve
 rsion Trigger\,  Max Shredroom
UID:e351e2f0-d0b7-42c9-8d94-869201fda282
URL:https://events.org/e/Clock-Out-Presents-Arran-McInnis-Bday-Show--F/755
 87NCG
BEGIN:VALARM
ACTION:DISPLAY
SUMMARY:Reminder
TRIGGER:-P1D
END:VALARM
END:VEVENT
END:VCALENDAR
