BEGIN:VCALENDAR
METHOD:REQUEST
PRODID:-//events.orgNONSGML ical.net 4.0//EN
VERSION:2.0
BEGIN:VEVENT
DTEND;VALUE=DATE:20260430
DTSTAMP:20260419T154650Z
DTSTART;VALUE=DATE:20260430
LOCATION:Taper Auditorium\, Seattle
ORGANIZER;CN=:mailto:events@events.org
SEQUENCE:0
SUMMARY:Seattle Symphony: Xian Conducts Mozart
UID:f2f18fd0-88b1-4c54-95ec-3911096a04cf
URL:https://events.org/e/Seattle-Symphony-Xian-Conducts-Mozart/DX622Q5C
BEGIN:VALARM
ACTION:DISPLAY
SUMMARY:Reminder
TRIGGER:-P1D
END:VALARM
END:VEVENT
END:VCALENDAR
