BEGIN:VCALENDAR
METHOD:REQUEST
PRODID:-//events.orgNONSGML ical.net 4.0//EN
VERSION:2.0
BEGIN:VEVENT
DTEND;VALUE=DATE:20260815
DTSTAMP:20260422T083924Z
DTSTART;VALUE=DATE:20260815
LOCATION:Valley Bar\, Phoenix
ORGANIZER;CN=:mailto:events@events.org
SEQUENCE:0
SUMMARY:GOOD BOY DAISY
UID:bd3474a8-2195-425c-b544-53df21005135
URL:https://events.org/e/GOOD-BOY-DAISY/3YU6DOWB
BEGIN:VALARM
ACTION:DISPLAY
SUMMARY:Reminder
TRIGGER:-P1D
END:VALARM
END:VEVENT
END:VCALENDAR
