BEGIN:VCALENDAR
METHOD:REQUEST
PRODID:-//events.orgNONSGML ical.net 4.0//EN
VERSION:2.0
BEGIN:VEVENT
DTEND;VALUE=DATE:20260522
DTSTAMP:20260424T092055Z
DTSTART;VALUE=DATE:20260522
LOCATION:Walter Studios\, Phoenix
ORGANIZER;CN=:mailto:events@events.org
SEQUENCE:0
SUMMARY:Jyoty (21 and Over)
UID:d2deb360-81c0-46a2-b468-a05bb23e0dc0
URL:https://events.org/e/Jyoty-21-and-Over/46EKVR9W
BEGIN:VALARM
ACTION:DISPLAY
SUMMARY:Reminder
TRIGGER:-P1D
END:VALARM
END:VEVENT
END:VCALENDAR
