BEGIN:VCALENDAR
METHOD:REQUEST
PRODID:-//events.orgNONSGML ical.net 4.0//EN
VERSION:2.0
BEGIN:VEVENT
DTEND;VALUE=DATE:20260711
DTSTAMP:20260421T144737Z
DTSTART;VALUE=DATE:20260711
LOCATION:Cal Coast Credit Union Open Air Theatre at SDSU\, San Diego
ORGANIZER;CN=:mailto:events@events.org
SEQUENCE:0
SUMMARY:Brit Floyd: The Moon\, The Wall and Beyond
UID:e7d1c4ba-cddb-4981-8d75-a5430417e8bf
URL:https://events.org/e/Brit-Floyd-The-Moon-The-Wall-and-Beyond/7C83HPS3
BEGIN:VALARM
ACTION:DISPLAY
SUMMARY:Reminder
TRIGGER:-P1D
END:VALARM
END:VEVENT
END:VCALENDAR
