BEGIN:VCALENDAR
METHOD:REQUEST
PRODID:-//events.orgNONSGML ical.net 4.0//EN
VERSION:2.0
BEGIN:VEVENT
DTEND;VALUE=DATE:20260510
DTSTAMP:20260421T082207Z
DTSTART;VALUE=DATE:20260510
LOCATION:The Moroccan Lounge\, Los Angeles
ORGANIZER;CN=:mailto:events@events.org
SEQUENCE:0
SUMMARY:Phoenix Wonder w/ Jordyn Diew & Suede Avery
UID:4bd5292f-8f43-4752-9b16-02961180c15c
URL:https://events.org/e/Phoenix-Wonder-w-Jordyn-Diew-Suede-Avery/ETR9OHBV
BEGIN:VALARM
ACTION:DISPLAY
SUMMARY:Reminder
TRIGGER:-P1D
END:VALARM
END:VEVENT
END:VCALENDAR
