BEGIN:VCALENDAR
METHOD:REQUEST
PRODID:-//events.orgNONSGML ical.net 4.0//EN
VERSION:2.0
BEGIN:VEVENT
DTEND;VALUE=DATE:20260518
DTSTAMP:20260422T090626Z
DTSTART;VALUE=DATE:20260518
LOCATION:Denver Pavilions\, Denver
ORGANIZER;CN=:mailto:events@events.org
SEQUENCE:0
SUMMARY:Bodies - The Science Within - Denver
UID:d2659e87-725a-49db-a523-913a8bedc669
URL:https://events.org/e/Bodies---The-Science-Within---Denver/T6UURVQL
BEGIN:VALARM
ACTION:DISPLAY
SUMMARY:Reminder
TRIGGER:-P1D
END:VALARM
END:VEVENT
END:VCALENDAR
