BEGIN:VCALENDAR
METHOD:REQUEST
PRODID:-//events.orgNONSGML ical.net 4.0//EN
VERSION:2.0
BEGIN:VEVENT
DTEND;VALUE=DATE:20260612
DTSTAMP:20260423T133938Z
DTSTART;VALUE=DATE:20260612
LOCATION:Roadrunner-Boston\, Boston
ORGANIZER;CN=:mailto:events@events.org
SEQUENCE:0
SUMMARY:Killswitch Engage w/ Machine Head
UID:9e37bae9-9690-4620-b7e8-559b71e7d8eb
URL:https://events.org/e/Killswitch-Engage-w-Machine-Head/WFLLTQPC
BEGIN:VALARM
ACTION:DISPLAY
SUMMARY:Reminder
TRIGGER:-P1D
END:VALARM
END:VEVENT
END:VCALENDAR
