BEGIN:VCALENDAR
METHOD:REQUEST
PRODID:-//events.orgNONSGML ical.net 4.0//EN
VERSION:2.0
BEGIN:VEVENT
DTEND;VALUE=DATE:20260611
DTSTAMP:20260421T094108Z
DTSTART;VALUE=DATE:20260611
LOCATION:Neck of the Woods\, San Francisco
ORGANIZER;CN=:mailto:events@events.org
SEQUENCE:0
SUMMARY:Clement St Comedy
UID:d0a0f00d-5a73-4974-a673-ebfeee278fb4
URL:https://events.org/e/Clement-St-Comedy/2DSN677W
BEGIN:VALARM
ACTION:DISPLAY
SUMMARY:Reminder
TRIGGER:-P1D
END:VALARM
END:VEVENT
END:VCALENDAR
