BEGIN:VCALENDAR
METHOD:REQUEST
PRODID:-//events.orgNONSGML ical.net 4.0//EN
VERSION:2.0
BEGIN:VEVENT
DTEND;VALUE=DATE:20260520
DTSTAMP:20260422T091151Z
DTSTART;VALUE=DATE:20260520
LOCATION:Cadillac Palace\, Chicago
ORGANIZER;CN=:mailto:events@events.org
SEQUENCE:0
SUMMARY:Les Miserables (Chicago)
UID:d9f4f703-1e9e-4262-84c8-9f76f97005af
URL:https://events.org/e/Les-Miserables-Chicago/2L62AYQ3
BEGIN:VALARM
ACTION:DISPLAY
SUMMARY:Reminder
TRIGGER:-P1D
END:VALARM
END:VEVENT
END:VCALENDAR
