BEGIN:VCALENDAR
METHOD:REQUEST
PRODID:-//events.orgNONSGML ical.net 4.0//EN
VERSION:2.0
BEGIN:VEVENT
DTEND;VALUE=DATE:20261003
DTSTAMP:20260419T091758Z
DTSTART;VALUE=DATE:20261003
LOCATION:Kaseya Center\, Miami
ORGANIZER;CN=:mailto:events@events.org
SEQUENCE:0
SUMMARY:Kany Garcia: Puerta Abierta Tour
UID:7b2e300f-e288-43df-a03d-484edc56668f
URL:https://events.org/e/Kany-Garcia-Puerta-Abierta-Tour/BU2QD5LB
BEGIN:VALARM
ACTION:DISPLAY
SUMMARY:Reminder
TRIGGER:-P1D
END:VALARM
END:VEVENT
END:VCALENDAR
