BEGIN:VCALENDAR
METHOD:REQUEST
PRODID:-//events.orgNONSGML ical.net 4.0//EN
VERSION:2.0
BEGIN:VEVENT
DTEND;VALUE=DATE:20260516
DTSTAMP:20260425T202321Z
DTSTART;VALUE=DATE:20260516
LOCATION:Swedish American Hall\, San Francisco
ORGANIZER;CN=:mailto:events@events.org
SEQUENCE:0
SUMMARY:A Concert and Conversation with Hrishikesh Hirway Moderated by Sam
 in Nosrat
UID:f67a8e6d-e74a-4bd9-8890-5daebc668653
URL:https://events.org/e/A-Concert-and-Conversation-with-Hrishikesh-Hi/BKO
 YQG3Y
BEGIN:VALARM
ACTION:DISPLAY
SUMMARY:Reminder
TRIGGER:-P1D
END:VALARM
END:VEVENT
END:VCALENDAR
