BEGIN:VCALENDAR
METHOD:REQUEST
PRODID:-//events.orgNONSGML ical.net 4.0//EN
VERSION:2.0
BEGIN:VEVENT
DTEND;VALUE=DATE:20260523
DTSTAMP:20260424T080745Z
DTSTART;VALUE=DATE:20260523
LOCATION:The Peppermint Club\, Los Angeles
ORGANIZER;CN=:mailto:events@events.org
SEQUENCE:0
SUMMARY:Edgar Alejandro
UID:9d96f7e5-1c9a-4587-b0ca-8263bd8f0149
URL:https://events.org/e/Edgar-Alejandro/9V8FBF6S
BEGIN:VALARM
ACTION:DISPLAY
SUMMARY:Reminder
TRIGGER:-P1D
END:VALARM
END:VEVENT
END:VCALENDAR
