BEGIN:VCALENDAR
METHOD:REQUEST
PRODID:-//events.orgNONSGML ical.net 4.0//EN
VERSION:2.0
BEGIN:VEVENT
DTEND;VALUE=DATE:20260613
DTSTAMP:20260421T082000Z
DTSTART;VALUE=DATE:20260613
LOCATION:The Ellipse\, Washington
ORGANIZER;CN=:mailto:events@events.org
SEQUENCE:0
SUMMARY:UFC Freedom 250 Fan Fest at The Ellipse | Day 1
UID:775b0b06-50d6-423d-8ace-3f70e841dc44
URL:https://events.org/e/UFC-Freedom-250-Fan-Fest-at-The-Ellipse-Day-1/PXI
 AS4V4
BEGIN:VALARM
ACTION:DISPLAY
SUMMARY:Reminder
TRIGGER:-P1D
END:VALARM
END:VEVENT
END:VCALENDAR
