BEGIN:VCALENDAR
METHOD:REQUEST
PRODID:-//events.orgNONSGML ical.net 4.0//EN
VERSION:2.0
BEGIN:VEVENT
DTEND;VALUE=DATE:20260508
DTSTAMP:20260423T135035Z
DTSTART;VALUE=DATE:20260508
LOCATION:The United Theater on Broadway\, Los Angeles
ORGANIZER;CN=:mailto:events@events.org
SEQUENCE:0
SUMMARY:Netflix Is A Joke Presents: Zarna Garg (5+ Event)
UID:0049d027-e539-4ac7-bea4-253b36275235
URL:https://events.org/e/Netflix-Is-A-Joke-Presents-Zarna-Garg-5-Event/9Q6
 7VUXU
BEGIN:VALARM
ACTION:DISPLAY
SUMMARY:Reminder
TRIGGER:-P1D
END:VALARM
END:VEVENT
END:VCALENDAR
