BEGIN:VCALENDAR
METHOD:REQUEST
PRODID:-//events.orgNONSGML ical.net 4.0//EN
VERSION:2.0
BEGIN:VEVENT
DTEND;VALUE=DATE:20260623
DTSTAMP:20260423T133205Z
DTSTART;VALUE=DATE:20260623
LOCATION:American Airlines Center\, Dallas
ORGANIZER;CN=:mailto:events@events.org
SEQUENCE:0
SUMMARY:SHAKIRA - LAS MUJERES YA NO LLORAN WORLD TOUR
UID:13668901-1170-4902-bbf2-46cf40ae554d
URL:https://events.org/e/SHAKIRA---LAS-MUJERES-YA-NO-LLORAN-WORLD-TOUR/5MA
 HE5LP
BEGIN:VALARM
ACTION:DISPLAY
SUMMARY:Reminder
TRIGGER:-P1D
END:VALARM
END:VEVENT
END:VCALENDAR
