BEGIN:VCALENDAR
METHOD:REQUEST
PRODID:-//events.orgNONSGML ical.net 4.0//EN
VERSION:2.0
BEGIN:VEVENT
DTEND;VALUE=DATE:20260501
DTSTAMP:20260424T080939Z
DTSTART;VALUE=DATE:20260501
LOCATION:South Side Studios\, Dallas
ORGANIZER;CN=:mailto:events@events.org
SEQUENCE:0
SUMMARY:Balloon Museum | Let's Fly - Art Has No Limits - Dallas
UID:b2542c6d-9983-4912-86b0-d3d1f2efd3d3
URL:https://events.org/e/Balloon-Museum-Lets-Fly---Art-Has-No-Limits--/J9S
 MPJJT
BEGIN:VALARM
ACTION:DISPLAY
SUMMARY:Reminder
TRIGGER:-P1D
END:VALARM
END:VEVENT
END:VCALENDAR
