BEGIN:VCALENDAR
METHOD:REQUEST
PRODID:-//events.orgNONSGML ical.net 4.0//EN
VERSION:2.0
BEGIN:VEVENT
DTEND;VALUE=DATE:20260610
DTSTAMP:20260424T092726Z
DTSTART;VALUE=DATE:20260610
LOCATION:Tabernacle\, Atlanta
ORGANIZER;CN=:mailto:events@events.org
SEQUENCE:0
SUMMARY:Nick Jonas: A Night with Nick Tour
UID:c3b3aade-3527-4178-9e43-2f8cc227cc79
URL:https://events.org/e/Nick-Jonas-A-Night-with-Nick-Tour/OEDAU9MS
BEGIN:VALARM
ACTION:DISPLAY
SUMMARY:Reminder
TRIGGER:-P1D
END:VALARM
END:VEVENT
END:VCALENDAR
