BEGIN:VCALENDAR
METHOD:REQUEST
PRODID:-//events.orgNONSGML ical.net 4.0//EN
VERSION:2.0
BEGIN:VEVENT
DTEND;VALUE=DATE:20260524
DTSTAMP:20260421T094415Z
DTSTART;VALUE=DATE:20260524
LOCATION:El Corazon\, Seattle
ORGANIZER;CN=:mailto:events@events.org
SEQUENCE:0
SUMMARY:Being As an Ocean
UID:2d22aba6-768f-400b-9e45-7bfcad9aba4d
URL:https://events.org/e/Being-As-an-Ocean/T7Y857B7
BEGIN:VALARM
ACTION:DISPLAY
SUMMARY:Reminder
TRIGGER:-P1D
END:VALARM
END:VEVENT
END:VCALENDAR
