BEGIN:VCALENDAR
METHOD:REQUEST
PRODID:-//events.orgNONSGML ical.net 4.0//EN
VERSION:2.0
BEGIN:VEVENT
DTEND;VALUE=DATE:20260711
DTSTAMP:20260421T095751Z
DTSTART;VALUE=DATE:20260711
LOCATION:Warner Theatre\, Washington
ORGANIZER;CN=:mailto:events@events.org
SEQUENCE:0
SUMMARY:The Marvelous Miss Gender starring BOSCO (Ages 18+)
UID:c00ae116-7481-48b5-af12-08e100afb06a
URL:https://events.org/e/The-Marvelous-Miss-Gender-starring-BOSCO-Ages-18/
 2FXA6W4D
BEGIN:VALARM
ACTION:DISPLAY
SUMMARY:Reminder
TRIGGER:-P1D
END:VALARM
END:VEVENT
END:VCALENDAR
