BEGIN:VCALENDAR
METHOD:REQUEST
PRODID:-//events.orgNONSGML ical.net 4.0//EN
VERSION:2.0
BEGIN:VEVENT
DTEND;VALUE=DATE:20260517
DTSTAMP:20260423T133517Z
DTSTART;VALUE=DATE:20260517
LOCATION:Coors Field\, Denver
ORGANIZER;CN=:mailto:events@events.org
SEQUENCE:0
SUMMARY:Colorado Rockies vs. Arizona Diamondbacks
UID:486ee182-bb41-4f67-a59e-b4c14ca43833
URL:https://events.org/e/Colorado-Rockies-vs-Arizona-Diamondbacks/HJP9TGTA
BEGIN:VALARM
ACTION:DISPLAY
SUMMARY:Reminder
TRIGGER:-P1D
END:VALARM
END:VEVENT
END:VCALENDAR
