BEGIN:VCALENDAR
METHOD:REQUEST
PRODID:-//events.orgNONSGML ical.net 4.0//EN
VERSION:2.0
BEGIN:VEVENT
DTEND;VALUE=DATE:20260808
DTSTAMP:20260422T090043Z
DTSTART;VALUE=DATE:20260808
LOCATION:White Oak Music Hall - Upstairs \, Houston
ORGANIZER;CN=:mailto:events@events.org
SEQUENCE:0
SUMMARY:NOVULENT
UID:2394bd22-3d2e-4a56-be56-978c06c106c2
URL:https://events.org/e/NOVULENT/KTJ325JF
BEGIN:VALARM
ACTION:DISPLAY
SUMMARY:Reminder
TRIGGER:-P1D
END:VALARM
END:VEVENT
END:VCALENDAR
