BEGIN:VCALENDAR
METHOD:REQUEST
PRODID:-//events.orgNONSGML ical.net 4.0//EN
VERSION:2.0
BEGIN:VEVENT
DTEND;VALUE=DATE:20260806
DTSTAMP:20260422T083631Z
DTSTART;VALUE=DATE:20260806
LOCATION:The Bronze Peacock at House of Blues Houston\, Houston
ORGANIZER;CN=:mailto:events@events.org
SEQUENCE:0
SUMMARY:Kevian Kraemer
UID:b94b55a0-3805-4e64-bd37-5e1569792b3d
URL:https://events.org/e/Kevian-Kraemer/WRSCKW9B
BEGIN:VALARM
ACTION:DISPLAY
SUMMARY:Reminder
TRIGGER:-P1D
END:VALARM
END:VEVENT
END:VCALENDAR
