BEGIN:VCALENDAR
METHOD:REQUEST
PRODID:-//events.orgNONSGML ical.net 4.0//EN
VERSION:2.0
BEGIN:VEVENT
DTEND;VALUE=DATE:20260422
DTSTAMP:20260421T095752Z
DTSTART;VALUE=DATE:20260422
LOCATION:Teragram Ballroom\, Los Angeles
ORGANIZER;CN=:mailto:events@events.org
SEQUENCE:0
SUMMARY:Ashes Remain "What I've become 15 year anniversary" ft Stephen Sta
 nley
UID:68d36c94-afdd-4083-a42e-17c21a7a071b
URL:https://events.org/e/Ashes-Remain-What-Ive-become-15-year-annivers/K8Q
 28M5Q
BEGIN:VALARM
ACTION:DISPLAY
SUMMARY:Reminder
TRIGGER:-P1D
END:VALARM
END:VEVENT
END:VCALENDAR
