BEGIN:VCALENDAR
METHOD:REQUEST
PRODID:-//events.orgNONSGML ical.net 4.0//EN
VERSION:2.0
BEGIN:VEVENT
DTEND;VALUE=DATE:20260425
DTSTAMP:20260421T095424Z
DTSTART;VALUE=DATE:20260425
LOCATION:Rate Field\, Chicago
ORGANIZER;CN=:mailto:events@events.org
SEQUENCE:0
SUMMARY:Chicago White Sox vs. Washington Nationals
UID:4995a444-7ba4-440f-9ead-8e13a845868f
URL:https://events.org/e/Chicago-White-Sox-vs-Washington-Nationals/P73SOV4D
BEGIN:VALARM
ACTION:DISPLAY
SUMMARY:Reminder
TRIGGER:-P1D
END:VALARM
END:VEVENT
END:VCALENDAR
