BEGIN:VCALENDAR
METHOD:REQUEST
PRODID:-//events.orgNONSGML ical.net 4.0//EN
VERSION:2.0
BEGIN:VEVENT
DTEND;VALUE=DATE:20260701
DTSTAMP:20260421T144130Z
DTSTART;VALUE=DATE:20260701
LOCATION:Ball Arena\, Denver
ORGANIZER;CN=:mailto:events@events.org
SEQUENCE:0
SUMMARY:Club Level Seating: Josh Groban with special guest Jennifer Hudson
UID:e9cf73ff-8b1a-4ba6-9d64-c0b2b5dbacc7
URL:https://events.org/e/Club-Level-Seating-Josh-Groban-with-special-g/FJJ
 OJLMX
BEGIN:VALARM
ACTION:DISPLAY
SUMMARY:Reminder
TRIGGER:-P1D
END:VALARM
END:VEVENT
END:VCALENDAR
