BEGIN:VCALENDAR
METHOD:REQUEST
PRODID:-//events.orgNONSGML ical.net 4.0//EN
VERSION:2.0
BEGIN:VEVENT
DTEND;VALUE=DATE:20260423
DTSTAMP:20260422T090405Z
DTSTART;VALUE=DATE:20260423
LOCATION:House of the Redeemer\, New York
ORGANIZER;CN=:mailto:events@events.org
SEQUENCE:0
SUMMARY:TRU
UID:3734d492-f3fd-44eb-96a1-09832765a941
URL:https://events.org/e/TRU/D8ED25RD
BEGIN:VALARM
ACTION:DISPLAY
SUMMARY:Reminder
TRIGGER:-P1D
END:VALARM
END:VEVENT
END:VCALENDAR
