BEGIN:VCALENDAR
METHOD:REQUEST
PRODID:-//events.orgNONSGML ical.net 4.0//EN
VERSION:2.0
BEGIN:VEVENT
DTEND;VALUE=DATE:20260425
DTSTAMP:20260423T133643Z
DTSTART;VALUE=DATE:20260425
LOCATION:The Regent Theater\, Los Angeles
ORGANIZER;CN=:mailto:events@events.org
SEQUENCE:0
SUMMARY:Gothicumbia
UID:997c6f93-b115-4674-bb2a-3c24f433795b
URL:https://events.org/e/Gothicumbia/9X3V4NEA
BEGIN:VALARM
ACTION:DISPLAY
SUMMARY:Reminder
TRIGGER:-P1D
END:VALARM
END:VEVENT
END:VCALENDAR
