BEGIN:VCALENDAR
METHOD:REQUEST
PRODID:-//events.orgNONSGML ical.net 4.0//EN
VERSION:2.0
BEGIN:VEVENT
DTEND;VALUE=DATE:20260425
DTSTAMP:20260419T143830Z
DTSTART;VALUE=DATE:20260425
LOCATION:The Wiltern\, Los Angeles
ORGANIZER;CN=:mailto:events@events.org
SEQUENCE:0
SUMMARY:KCRW Presents Cory Wong - Lost in the Wonder
UID:56e184c1-b2e1-4ed7-866d-286d85df1c2f
URL:https://events.org/e/KCRW-Presents-Cory-Wong---Lost-in-the-Wonder/AAKI
 WWBG
BEGIN:VALARM
ACTION:DISPLAY
SUMMARY:Reminder
TRIGGER:-P1D
END:VALARM
END:VEVENT
END:VCALENDAR
