BEGIN:VCALENDAR
METHOD:REQUEST
PRODID:-//events.orgNONSGML ical.net 4.0//EN
VERSION:2.0
BEGIN:VEVENT
DTEND;VALUE=DATE:20260524
DTSTAMP:20260425T202028Z
DTSTART;VALUE=DATE:20260524
LOCATION:Punch Line Houston\, Houston
ORGANIZER;CN=:mailto:events@events.org
SEQUENCE:0
SUMMARY:Chalee Jr Presents: DD214 Comedy
UID:a425a64d-d09c-4246-94eb-8dba86d9effc
URL:https://events.org/e/Chalee-Jr-Presents-DD214-Comedy/OSR6RQYN
BEGIN:VALARM
ACTION:DISPLAY
SUMMARY:Reminder
TRIGGER:-P1D
END:VALARM
END:VEVENT
END:VCALENDAR
