BEGIN:VCALENDAR
METHOD:REQUEST
PRODID:-//events.orgNONSGML ical.net 4.0//EN
VERSION:2.0
BEGIN:VEVENT
DTEND;VALUE=DATE:20260613
DTSTAMP:20260421T103936Z
DTSTART;VALUE=DATE:20260613
LOCATION:DAR Constitution Hall\, Washington
ORGANIZER;CN=:mailto:events@events.org
SEQUENCE:0
SUMMARY:Sing Democracy 250
UID:dd97b5c1-bb50-4bea-8b37-508c48fa0475
URL:https://events.org/e/Sing-Democracy-250/7EVMU8DA
BEGIN:VALARM
ACTION:DISPLAY
SUMMARY:Reminder
TRIGGER:-P1D
END:VALARM
END:VEVENT
END:VCALENDAR
