BEGIN:VCALENDAR
METHOD:REQUEST
PRODID:-//events.orgNONSGML ical.net 4.0//EN
VERSION:2.0
BEGIN:VEVENT
DTEND;VALUE=DATE:20260421
DTSTAMP:20260419T142603Z
DTSTART;VALUE=DATE:20260421
LOCATION:The GRAMMY Museum\, Los Angeles
ORGANIZER;CN=:mailto:events@events.org
SEQUENCE:0
SUMMARY:Global Spin Live: BINI
UID:ad8da05d-13cb-4a4a-a0a2-d05284a1846f
URL:https://events.org/e/Global-Spin-Live-BINI/9BT7XFRI
BEGIN:VALARM
ACTION:DISPLAY
SUMMARY:Reminder
TRIGGER:-P1D
END:VALARM
END:VEVENT
END:VCALENDAR
