BEGIN:VCALENDAR
METHOD:REQUEST
PRODID:-//events.orgNONSGML ical.net 4.0//EN
VERSION:2.0
BEGIN:VEVENT
DTEND;VALUE=DATE:20260523
DTSTAMP:20260424T080551Z
DTSTART;VALUE=DATE:20260523
LOCATION:Echoplex\, Los Angeles
ORGANIZER;CN=:mailto:events@events.org
SEQUENCE:0
SUMMARY:Mina - Flow State Tour
UID:4d3a1f76-0b18-42f3-a826-19027d663ff1
URL:https://events.org/e/Mina---Flow-State-Tour/FG97DI3H
BEGIN:VALARM
ACTION:DISPLAY
SUMMARY:Reminder
TRIGGER:-P1D
END:VALARM
END:VEVENT
END:VCALENDAR
