BEGIN:VCALENDAR
METHOD:REQUEST
PRODID:-//events.orgNONSGML ical.net 4.0//EN
VERSION:2.0
BEGIN:VEVENT
DTEND;VALUE=DATE:20260517
DTSTAMP:20260422T091017Z
DTSTART;VALUE=DATE:20260517
LOCATION:Hollywood Pantages Theatre\, Los Angeles
ORGANIZER;CN=:mailto:events@events.org
SEQUENCE:0
SUMMARY:The Sound of Music (Touring)
UID:2f5b7c64-f128-4648-b30d-fcd3eaee2f6a
URL:https://events.org/e/The-Sound-of-Music-Touring/MUF6E2JU
BEGIN:VALARM
ACTION:DISPLAY
SUMMARY:Reminder
TRIGGER:-P1D
END:VALARM
END:VEVENT
END:VCALENDAR
