BEGIN:VCALENDAR
METHOD:REQUEST
PRODID:-//events.orgNONSGML ical.net 4.0//EN
VERSION:2.0
BEGIN:VEVENT
DTEND;VALUE=DATE:20260502
DTSTAMP:20260423T132905Z
DTSTART;VALUE=DATE:20260502
LOCATION:Academy LA\, Los Angeles
ORGANIZER;CN=:mailto:events@events.org
SEQUENCE:0
SUMMARY:4B w/ Special Guest RoRoll
UID:ef15cb4d-4477-4571-bbaa-ab24484733d8
URL:https://events.org/e/4B-w-Special-Guest-RoRoll/KK2393GG
BEGIN:VALARM
ACTION:DISPLAY
SUMMARY:Reminder
TRIGGER:-P1D
END:VALARM
END:VEVENT
END:VCALENDAR
