BEGIN:VCALENDAR
METHOD:REQUEST
PRODID:-//events.orgNONSGML ical.net 4.0//EN
VERSION:2.0
BEGIN:VEVENT
DTEND;VALUE=DATE:20260520
DTSTAMP:20260422T090646Z
DTSTART;VALUE=DATE:20260520
LOCATION:The Echo\, Los Angeles
ORGANIZER;CN=:mailto:events@events.org
SEQUENCE:0
SUMMARY:Lipphead (Blockead + Eliot Lipp)
UID:6c2dc1e1-b075-4720-b25e-925c632fb0a7
URL:https://events.org/e/Lipphead-Blockead-Eliot-Lipp/P239K63S
BEGIN:VALARM
ACTION:DISPLAY
SUMMARY:Reminder
TRIGGER:-P1D
END:VALARM
END:VEVENT
END:VCALENDAR
