BEGIN:VCALENDAR
METHOD:REQUEST
PRODID:-//events.orgNONSGML ical.net 4.0//EN
VERSION:2.0
BEGIN:VEVENT
DTEND;VALUE=DATE:20260621
DTSTAMP:20260419T144421Z
DTSTART;VALUE=DATE:20260621
LOCATION:Union Stage\, Washington
ORGANIZER;CN=:mailto:events@events.org
SEQUENCE:0
SUMMARY:Flawed Mangoes: The Killswitch Memories Tour
UID:ea39ca41-af65-4e8a-8742-2a31030d4afa
URL:https://events.org/e/Flawed-Mangoes-The-Killswitch-Memories-Tour/Q5IUJ
 GJH
BEGIN:VALARM
ACTION:DISPLAY
SUMMARY:Reminder
TRIGGER:-P1D
END:VALARM
END:VEVENT
END:VCALENDAR
