BEGIN:VCALENDAR
METHOD:REQUEST
PRODID:-//events.orgNONSGML ical.net 4.0//EN
VERSION:2.0
BEGIN:VEVENT
DTEND;VALUE=DATE:20260712
DTSTAMP:20260424T092623Z
DTSTART;VALUE=DATE:20260712
LOCATION:Thunderbird Lounge\, Phoenix
ORGANIZER;CN=:mailto:events@events.org
SEQUENCE:0
SUMMARY:Summer Cornhole
UID:c4884cae-e234-4ad6-9bc6-a3e13314dd0d
URL:https://events.org/e/Summer-Cornhole/OILUXYEN
BEGIN:VALARM
ACTION:DISPLAY
SUMMARY:Reminder
TRIGGER:-P1D
END:VALARM
END:VEVENT
END:VCALENDAR
