BEGIN:VCALENDAR
METHOD:REQUEST
PRODID:-//events.orgNONSGML ical.net 4.0//EN
VERSION:2.0
BEGIN:VEVENT
DTEND;VALUE=DATE:20261104
DTSTAMP:20260421T103812Z
DTSTART;VALUE=DATE:20261104
LOCATION:American Airlines Center\, Dallas
ORGANIZER;CN=:mailto:events@events.org
SEQUENCE:0
SUMMARY:Doja Cat - Tour Ma Vie World Tour
UID:60052beb-c09d-4814-86a9-bd54670a5f9a
URL:https://events.org/e/Doja-Cat---Tour-Ma-Vie-World-Tour/QFA3G69X
BEGIN:VALARM
ACTION:DISPLAY
SUMMARY:Reminder
TRIGGER:-P1D
END:VALARM
END:VEVENT
END:VCALENDAR
