BEGIN:VCALENDAR
METHOD:REQUEST
PRODID:-//events.orgNONSGML ical.net 4.0//EN
VERSION:2.0
BEGIN:VEVENT
DTEND;VALUE=DATE:20260507
DTSTAMP:20260419T143424Z
DTSTART;VALUE=DATE:20260507
LOCATION:Pacific Electric\, Los Angeles
ORGANIZER;CN=:mailto:events@events.org
SEQUENCE:0
SUMMARY:Netflix Is A Joke Presents: JIAOYING SUMMERS: LUCKY PONY 26
UID:38d9bfb6-8312-492a-86a4-ac277cd87478
URL:https://events.org/e/Netflix-Is-A-Joke-Presents-JIAOYING-SUMMERS-L/UBR
 E58DU
BEGIN:VALARM
ACTION:DISPLAY
SUMMARY:Reminder
TRIGGER:-P1D
END:VALARM
END:VEVENT
END:VCALENDAR
