BEGIN:VCALENDAR
METHOD:REQUEST
PRODID:-//events.orgNONSGML ical.net 4.0//EN
VERSION:2.0
BEGIN:VEVENT
DTEND;VALUE=DATE:20260627
DTSTAMP:20260422T090715Z
DTSTART;VALUE=DATE:20260627
LOCATION:Clock-Out Lounge\, Seattle
ORGANIZER;CN=:mailto:events@events.org
SEQUENCE:0
SUMMARY:Clock-Out Lounge Presents: Orquestra Pacifico Tropical  (Album Rel
 ease Party) w/ Lucha Luna\, Cómo Que
UID:9fb6244c-bde2-4f56-b2ef-d243088a631a
URL:https://events.org/e/Clock-Out-Lounge-Presents-Orquestra-Pacifico/88JI
 G228
BEGIN:VALARM
ACTION:DISPLAY
SUMMARY:Reminder
TRIGGER:-P1D
END:VALARM
END:VEVENT
END:VCALENDAR
