BEGIN:VCALENDAR
METHOD:REQUEST
PRODID:-//events.orgNONSGML ical.net 4.0//EN
VERSION:2.0
BEGIN:VEVENT
DTEND;VALUE=DATE:20260623
DTSTAMP:20260421T104012Z
DTSTART;VALUE=DATE:20260623
LOCATION:Franklin Music Hall\, Philadelphia
ORGANIZER;CN=:mailto:events@events.org
SEQUENCE:0
SUMMARY:Black Country\, New Road w/ Horsegirl
UID:54b67399-7ac1-43cf-8de9-664a8f69116f
URL:https://events.org/e/Black-Country-New-Road-w-Horsegirl/EKUULIHJ
BEGIN:VALARM
ACTION:DISPLAY
SUMMARY:Reminder
TRIGGER:-P1D
END:VALARM
END:VEVENT
END:VCALENDAR
