BEGIN:VCALENDAR
METHOD:REQUEST
PRODID:-//events.orgNONSGML ical.net 4.0//EN
VERSION:2.0
BEGIN:VEVENT
DTEND;VALUE=DATE:20260515
DTSTAMP:20260423T133420Z
DTSTART;VALUE=DATE:20260515
LOCATION:Marian Anderson Hall - Kimmel Center\, Philadelphia
ORGANIZER;CN=:mailto:events@events.org
SEQUENCE:0
SUMMARY:Philadelphia Orchestra Mahler and Sorey
UID:c87c08d3-b3d0-4d35-9428-1cbfcd7418cb
URL:https://events.org/e/Philadelphia-Orchestra-Mahler-and-Sorey/VB4BRXW9
BEGIN:VALARM
ACTION:DISPLAY
SUMMARY:Reminder
TRIGGER:-P1D
END:VALARM
END:VEVENT
END:VCALENDAR
