BEGIN:VCALENDAR
METHOD:REQUEST
PRODID:-//events.orgNONSGML ical.net 4.0//EN
VERSION:2.0
BEGIN:VEVENT
DTEND;VALUE=DATE:20260524
DTSTAMP:20260424T092209Z
DTSTART;VALUE=DATE:20260524
LOCATION:Improv Comedy Club- Houston\, Houston
ORGANIZER;CN=:mailto:events@events.org
SEQUENCE:0
SUMMARY:Kevin Nealon
UID:5f5bbfaf-72e7-4776-8514-bb2877bc89e1
URL:https://events.org/e/Kevin-Nealon/X46WABJV
BEGIN:VALARM
ACTION:DISPLAY
SUMMARY:Reminder
TRIGGER:-P1D
END:VALARM
END:VEVENT
END:VCALENDAR
